BEGIN:VCALENDAR
VERSION:2.0
PRODID:-//Miss Anne&#039;s Maypop Herb Shop - ECPv6.15.20//NONSGML v1.0//EN
CALSCALE:GREGORIAN
METHOD:PUBLISH
X-ORIGINAL-URL:https://missannesmaypopherbshop.com
X-WR-CALDESC:Events for Miss Anne&#039;s Maypop Herb Shop
REFRESH-INTERVAL;VALUE=DURATION:PT1H
X-Robots-Tag:noindex
X-PUBLISHED-TTL:PT1H
BEGIN:VTIMEZONE
TZID:America/Chicago
BEGIN:DAYLIGHT
TZOFFSETFROM:-0600
TZOFFSETTO:-0500
TZNAME:CDT
DTSTART:20250309T080000
END:DAYLIGHT
BEGIN:STANDARD
TZOFFSETFROM:-0500
TZOFFSETTO:-0600
TZNAME:CST
DTSTART:20251102T070000
END:STANDARD
BEGIN:DAYLIGHT
TZOFFSETFROM:-0600
TZOFFSETTO:-0500
TZNAME:CDT
DTSTART:20260308T080000
END:DAYLIGHT
BEGIN:STANDARD
TZOFFSETFROM:-0500
TZOFFSETTO:-0600
TZNAME:CST
DTSTART:20261101T070000
END:STANDARD
BEGIN:DAYLIGHT
TZOFFSETFROM:-0600
TZOFFSETTO:-0500
TZNAME:CDT
DTSTART:20270314T080000
END:DAYLIGHT
BEGIN:STANDARD
TZOFFSETFROM:-0500
TZOFFSETTO:-0600
TZNAME:CST
DTSTART:20271107T070000
END:STANDARD
END:VTIMEZONE
BEGIN:VEVENT
DTSTART;TZID=America/Chicago:20260216T110000
DTEND;TZID=America/Chicago:20260216T180000
DTSTAMP:20260420T044141
CREATED:20260126T200252Z
LAST-MODIFIED:20260126T200253Z
UID:2931-1771239600-1771264800@missannesmaypopherbshop.com
SUMMARY:Closed
DESCRIPTION:Closed for Lundi Gras
URL:https://missannesmaypopherbshop.com/event/closed-19/
END:VEVENT
BEGIN:VEVENT
DTSTART;TZID=America/Chicago:20260217T110000
DTEND;TZID=America/Chicago:20260217T180000
DTSTAMP:20260420T044141
CREATED:20260126T200339Z
LAST-MODIFIED:20260126T200340Z
UID:2932-1771326000-1771351200@missannesmaypopherbshop.com
SUMMARY:Closed
DESCRIPTION:Closed for Mardi Gras
URL:https://missannesmaypopherbshop.com/event/closed-20/
END:VEVENT
BEGIN:VEVENT
DTSTART;TZID=America/Chicago:20260218T110000
DTEND;TZID=America/Chicago:20260218T180000
DTSTAMP:20260420T044141
CREATED:20260126T200601Z
LAST-MODIFIED:20260126T200603Z
UID:2933-1771412400-1771437600@missannesmaypopherbshop.com
SUMMARY:Closed
DESCRIPTION:Closed for Ash Wednesday
URL:https://missannesmaypopherbshop.com/event/closed-21/
END:VEVENT
END:VCALENDAR